BEGIN:VCALENDAR
VERSION:2.0
PRODID:-//hacksw/handcal//NONSGML v1.0//EN
BEGIN:VEVENT
SUMMARY:Challenge de Vendee U15
UID:17463aa6-eb6f-4dd3-9320-06137b6602ad
DTSTART:20260301T090000Z
DTEND:20260301T230000Z
LOCATION:Localisation   
CATEGORIES:Sportif
STATUS:
URL;VALUE=URI:https://franceaizenayfootball.sportsregions.fr/evenements/2026/03/01/challenge-de-vendee-u15-2422555
END:VEVENT
END:VCALENDAR
